BEGIN:VCALENDAR
VERSION:2.0
PRODID:-//Emporium Arcade Bar - ECPv6.15.18//NONSGML v1.0//EN
CALSCALE:GREGORIAN
METHOD:PUBLISH
X-WR-CALNAME:Emporium Arcade Bar
X-ORIGINAL-URL:https://www.emporiumarcadebar.com
X-WR-CALDESC:Events for Emporium Arcade Bar
REFRESH-INTERVAL;VALUE=DURATION:PT1H
X-Robots-Tag:noindex
X-PUBLISHED-TTL:PT1H
BEGIN:VTIMEZONE
TZID:America/Chicago
BEGIN:DAYLIGHT
TZOFFSETFROM:-0600
TZOFFSETTO:-0500
TZNAME:CDT
DTSTART:20210314T080000
END:DAYLIGHT
BEGIN:STANDARD
TZOFFSETFROM:-0500
TZOFFSETTO:-0600
TZNAME:CST
DTSTART:20211107T070000
END:STANDARD
BEGIN:DAYLIGHT
TZOFFSETFROM:-0600
TZOFFSETTO:-0500
TZNAME:CDT
DTSTART:20220313T080000
END:DAYLIGHT
BEGIN:STANDARD
TZOFFSETFROM:-0500
TZOFFSETTO:-0600
TZNAME:CST
DTSTART:20221106T070000
END:STANDARD
BEGIN:DAYLIGHT
TZOFFSETFROM:-0600
TZOFFSETTO:-0500
TZNAME:CDT
DTSTART:20230312T080000
END:DAYLIGHT
BEGIN:STANDARD
TZOFFSETFROM:-0500
TZOFFSETTO:-0600
TZNAME:CST
DTSTART:20231105T070000
END:STANDARD
END:VTIMEZONE
BEGIN:VEVENT
DTSTART;TZID=America/Chicago:20220410T120000
DTEND;TZID=America/Chicago:20220410T160000
DTSTAMP:20260420T051446
CREATED:20220331T052638Z
LAST-MODIFIED:20220331T052638Z
UID:16809-1649592000-1649606400@www.emporiumarcadebar.com
SUMMARY:"Another Vegan Market" w/ Vegan Test Kitchen!
DESCRIPTION:Vegan Test Kitchen is back Sunday April 10th for Another Vegan Market! Join 8+ vegan vendors\, pop-ups\, and local heavy hitters.This event is 21+. \nALL patrons under 21+ MUST be accompanied by their legal guardian during their time inside the building per the City of Chicago Ordinance. \nFree RSVP for 10 tokens
URL:https://www.emporiumarcadebar.com/event/another-vegan-market-w-vegan-test-kitchen/
LOCATION:Chicago Logan Square\, 2363 N Milwaukee Ave\, Chicago\, IL\, 60647\, United States
CATEGORIES:Bar,Games,Music
ATTACH;FMTTYPE=image/jpeg:https://www.emporiumarcadebar.com/wp-content/uploads/2022/03/Emporium-Insta-17-1.jpg
ORGANIZER;CN="Emporium Logan Square":MAILTO:logansquare@emporiumarcadebar.com
END:VEVENT
END:VCALENDAR