BEGIN:VCALENDAR
VERSION:2.0
PRODID:-//Emporium Arcade Bar - ECPv6.15.18//NONSGML v1.0//EN
CALSCALE:GREGORIAN
METHOD:PUBLISH
X-WR-CALNAME:Emporium Arcade Bar
X-ORIGINAL-URL:https://www.emporiumarcadebar.com
X-WR-CALDESC:Events for Emporium Arcade Bar
REFRESH-INTERVAL;VALUE=DURATION:PT1H
X-Robots-Tag:noindex
X-PUBLISHED-TTL:PT1H
BEGIN:VTIMEZONE
TZID:America/Chicago
BEGIN:DAYLIGHT
TZOFFSETFROM:-0600
TZOFFSETTO:-0500
TZNAME:CDT
DTSTART:20220313T080000
END:DAYLIGHT
BEGIN:STANDARD
TZOFFSETFROM:-0500
TZOFFSETTO:-0600
TZNAME:CST
DTSTART:20221106T070000
END:STANDARD
BEGIN:DAYLIGHT
TZOFFSETFROM:-0600
TZOFFSETTO:-0500
TZNAME:CDT
DTSTART:20230312T080000
END:DAYLIGHT
BEGIN:STANDARD
TZOFFSETFROM:-0500
TZOFFSETTO:-0600
TZNAME:CST
DTSTART:20231105T070000
END:STANDARD
BEGIN:DAYLIGHT
TZOFFSETFROM:-0600
TZOFFSETTO:-0500
TZNAME:CDT
DTSTART:20240310T080000
END:DAYLIGHT
BEGIN:STANDARD
TZOFFSETFROM:-0500
TZOFFSETTO:-0600
TZNAME:CST
DTSTART:20241103T070000
END:STANDARD
END:VTIMEZONE
BEGIN:VEVENT
DTSTART;TZID=America/Chicago:20231025T180000
DTEND;TZID=America/Chicago:20231025T210000
DTSTAMP:20260419T214506
CREATED:20231017T203817Z
LAST-MODIFIED:20231017T203817Z
UID:21636-1698256800-1698267600@www.emporiumarcadebar.com
SUMMARY:City BBQ Holiday Mixer
DESCRIPTION:JOIN US FOR A FUN NIGHT OF GAMES\, DRINKS & FOOD! City BBQ will also hold a raffle\, give out gift bags & complimentary tokens. Preview the City Barbeque holiday menu\, plus the first 25 guests to arrive will receive a gift card for City BBQ to use at one of their 4 Chicagoland area locations.
URL:https://www.emporiumarcadebar.com/event/city-bbq-holiday-mixer/
LOCATION:Chicago Fulton Market\, 839 W Fulton Market\, Chicago\, IL\, 60607\, United States
CATEGORIES:Bar,Games,Music
ATTACH;FMTTYPE=image/jpeg:https://www.emporiumarcadebar.com/wp-content/uploads/2023/10/Holiday-FI.jpg
ORGANIZER;CN="Emporium Fulton Market":MAILTO:fultonmarket@emporiumarcadebar.com
END:VEVENT
END:VCALENDAR