BEGIN:VCALENDAR
VERSION:2.0
PRODID:-//Emporium Arcade Bar - ECPv6.15.18//NONSGML v1.0//EN
CALSCALE:GREGORIAN
METHOD:PUBLISH
X-WR-CALNAME:Emporium Arcade Bar
X-ORIGINAL-URL:https://www.emporiumarcadebar.com
X-WR-CALDESC:Events for Emporium Arcade Bar
REFRESH-INTERVAL;VALUE=DURATION:PT1H
X-Robots-Tag:noindex
X-PUBLISHED-TTL:PT1H
BEGIN:VTIMEZONE
TZID:America/Los_Angeles
BEGIN:DAYLIGHT
TZOFFSETFROM:-0800
TZOFFSETTO:-0700
TZNAME:PDT
DTSTART:20220313T100000
END:DAYLIGHT
BEGIN:STANDARD
TZOFFSETFROM:-0700
TZOFFSETTO:-0800
TZNAME:PST
DTSTART:20221106T090000
END:STANDARD
BEGIN:DAYLIGHT
TZOFFSETFROM:-0800
TZOFFSETTO:-0700
TZNAME:PDT
DTSTART:20230312T100000
END:DAYLIGHT
BEGIN:STANDARD
TZOFFSETFROM:-0700
TZOFFSETTO:-0800
TZNAME:PST
DTSTART:20231105T090000
END:STANDARD
BEGIN:DAYLIGHT
TZOFFSETFROM:-0800
TZOFFSETTO:-0700
TZNAME:PDT
DTSTART:20240310T100000
END:DAYLIGHT
BEGIN:STANDARD
TZOFFSETFROM:-0700
TZOFFSETTO:-0800
TZNAME:PST
DTSTART:20241103T090000
END:STANDARD
END:VTIMEZONE
BEGIN:VEVENT
DTSTART;TZID=America/Los_Angeles:20230519T090000
DTEND;TZID=America/Los_Angeles:20230520T020000
DTSTAMP:20260421T052010
CREATED:20230410T163236Z
LAST-MODIFIED:20230501T204946Z
UID:19741-1684486800-1684548000@www.emporiumarcadebar.com
SUMMARY:DJ Ibarra
DESCRIPTION:Ibarra is currently mixing up the hottest & most vibrant sounds you can find in House/Reggae/Hip-Hop/R&B/D&B and Trap-music. Combining life experience\, intense skills\, and a true passion for music\, Ibarra has become a sonic force guaranteed to get the party started.
URL:https://www.emporiumarcadebar.com/event/dj-ibarra-8/
LOCATION:San Francisco\, 616 Divisadero St\, San Francisco\, CA\, 94117\, United States
CATEGORIES:Bar,Games,Music
ATTACH;FMTTYPE=image/jpeg:https://www.emporiumarcadebar.com/wp-content/uploads/2023/04/Untitled-Design-99.jpg
ORGANIZER;CN="Emporium San Francisco":MAILTO:sf@emporiumarcadebar.com
END:VEVENT
END:VCALENDAR