BEGIN:VCALENDAR
VERSION:2.0
PRODID:-//Emporium Arcade Bar - ECPv6.15.18//NONSGML v1.0//EN
CALSCALE:GREGORIAN
METHOD:PUBLISH
X-WR-CALNAME:Emporium Arcade Bar
X-ORIGINAL-URL:https://www.emporiumarcadebar.com
X-WR-CALDESC:Events for Emporium Arcade Bar
REFRESH-INTERVAL;VALUE=DURATION:PT1H
X-Robots-Tag:noindex
X-PUBLISHED-TTL:PT1H
BEGIN:VTIMEZONE
TZID:America/Los_Angeles
BEGIN:DAYLIGHT
TZOFFSETFROM:-0800
TZOFFSETTO:-0700
TZNAME:PDT
DTSTART:20250309T100000
END:DAYLIGHT
BEGIN:STANDARD
TZOFFSETFROM:-0700
TZOFFSETTO:-0800
TZNAME:PST
DTSTART:20251102T090000
END:STANDARD
BEGIN:DAYLIGHT
TZOFFSETFROM:-0800
TZOFFSETTO:-0700
TZNAME:PDT
DTSTART:20260308T100000
END:DAYLIGHT
BEGIN:STANDARD
TZOFFSETFROM:-0700
TZOFFSETTO:-0800
TZNAME:PST
DTSTART:20261101T090000
END:STANDARD
BEGIN:DAYLIGHT
TZOFFSETFROM:-0800
TZOFFSETTO:-0700
TZNAME:PDT
DTSTART:20270314T100000
END:DAYLIGHT
BEGIN:STANDARD
TZOFFSETFROM:-0700
TZOFFSETTO:-0800
TZNAME:PST
DTSTART:20271107T090000
END:STANDARD
END:VTIMEZONE
BEGIN:VEVENT
DTSTART;TZID=America/Los_Angeles:20260313T210000
DTEND;TZID=America/Los_Angeles:20260314T020000
DTSTAMP:20260420T023242
CREATED:20260227T192142Z
LAST-MODIFIED:20260302T192903Z
UID:46768-1773435600-1773453600@www.emporiumarcadebar.com
SUMMARY:HVFF
DESCRIPTION:More color\, more sound\, more things going on than you can imagine. Emporium has your weekdays and weekends set up. Day or night\, games or beer.. or both! You’ll never be bored here.
URL:https://www.emporiumarcadebar.com/event/hvff-031326/
LOCATION:San Francisco\, 616 Divisadero St\, San Francisco\, CA\, 94117\, United States
CATEGORIES:Bar,Games,Music
ATTACH;FMTTYPE=image/jpeg:https://www.emporiumarcadebar.com/wp-content/uploads/2026/02/SF-031326-HVFF-IG.jpg
ORGANIZER;CN="Emporium San Francisco":MAILTO:sf@emporiumarcadebar.com
END:VEVENT
END:VCALENDAR