BEGIN:VCALENDAR
VERSION:2.0
PRODID:-//Emporium Arcade Bar - ECPv6.15.18//NONSGML v1.0//EN
CALSCALE:GREGORIAN
METHOD:PUBLISH
X-WR-CALNAME:Emporium Arcade Bar
X-ORIGINAL-URL:https://www.emporiumarcadebar.com
X-WR-CALDESC:Events for Emporium Arcade Bar
REFRESH-INTERVAL;VALUE=DURATION:PT1H
X-Robots-Tag:noindex
X-PUBLISHED-TTL:PT1H
BEGIN:VTIMEZONE
TZID:America/Los_Angeles
BEGIN:DAYLIGHT
TZOFFSETFROM:-0800
TZOFFSETTO:-0700
TZNAME:PDT
DTSTART:20230312T100000
END:DAYLIGHT
BEGIN:STANDARD
TZOFFSETFROM:-0700
TZOFFSETTO:-0800
TZNAME:PST
DTSTART:20231105T090000
END:STANDARD
BEGIN:DAYLIGHT
TZOFFSETFROM:-0800
TZOFFSETTO:-0700
TZNAME:PDT
DTSTART:20240310T100000
END:DAYLIGHT
BEGIN:STANDARD
TZOFFSETFROM:-0700
TZOFFSETTO:-0800
TZNAME:PST
DTSTART:20241103T090000
END:STANDARD
BEGIN:DAYLIGHT
TZOFFSETFROM:-0800
TZOFFSETTO:-0700
TZNAME:PDT
DTSTART:20250309T100000
END:DAYLIGHT
BEGIN:STANDARD
TZOFFSETFROM:-0700
TZOFFSETTO:-0800
TZNAME:PST
DTSTART:20251102T090000
END:STANDARD
END:VTIMEZONE
BEGIN:VEVENT
DTSTART;TZID=America/Los_Angeles:20240815T200000
DTEND;TZID=America/Los_Angeles:20240816T010000
DTSTAMP:20260419T181339
CREATED:20240506T171359Z
LAST-MODIFIED:20241120T221510Z
UID:10004935-1723752000-1723770000@www.emporiumarcadebar.com
SUMMARY:Jose Melendez - "In the Vid Mix"
DESCRIPTION:Bay fave Jose Melendez drops the hottest video mix in the city on our 50-foot projector screen every 3rd Thursday. No cover!
URL:https://www.emporiumarcadebar.com/event/jose-melendez-in-the-vid-mix-10/2024-08-15/
LOCATION:San Francisco\, 616 Divisadero St\, San Francisco\, CA\, 94117\, United States
CATEGORIES:Bar,Games,Music
ATTACH;FMTTYPE=image/jpeg:https://www.emporiumarcadebar.com/wp-content/uploads/2022/01/IG-Green.jpeg
ORGANIZER;CN="Emporium San Francisco":MAILTO:sf@emporiumarcadebar.com
END:VEVENT
END:VCALENDAR