BEGIN:VCALENDAR
VERSION:2.0
PRODID:-//Emporium Arcade Bar - ECPv6.15.18//NONSGML v1.0//EN
CALSCALE:GREGORIAN
METHOD:PUBLISH
X-WR-CALNAME:Emporium Arcade Bar
X-ORIGINAL-URL:https://www.emporiumarcadebar.com
X-WR-CALDESC:Events for Emporium Arcade Bar
REFRESH-INTERVAL;VALUE=DURATION:PT1H
X-Robots-Tag:noindex
X-PUBLISHED-TTL:PT1H
BEGIN:VTIMEZONE
TZID:America/Chicago
BEGIN:DAYLIGHT
TZOFFSETFROM:-0600
TZOFFSETTO:-0500
TZNAME:CDT
DTSTART:20250309T080000
END:DAYLIGHT
BEGIN:STANDARD
TZOFFSETFROM:-0500
TZOFFSETTO:-0600
TZNAME:CST
DTSTART:20251102T070000
END:STANDARD
BEGIN:DAYLIGHT
TZOFFSETFROM:-0600
TZOFFSETTO:-0500
TZNAME:CDT
DTSTART:20260308T080000
END:DAYLIGHT
BEGIN:STANDARD
TZOFFSETFROM:-0500
TZOFFSETTO:-0600
TZNAME:CST
DTSTART:20261101T070000
END:STANDARD
BEGIN:DAYLIGHT
TZOFFSETFROM:-0600
TZOFFSETTO:-0500
TZNAME:CDT
DTSTART:20270314T080000
END:DAYLIGHT
BEGIN:STANDARD
TZOFFSETFROM:-0500
TZOFFSETTO:-0600
TZNAME:CST
DTSTART:20271107T070000
END:STANDARD
END:VTIMEZONE
BEGIN:VEVENT
DTSTART;TZID=America/Chicago:20260424T210000
DTEND;TZID=America/Chicago:20260425T013000
DTSTAMP:20260424T061602
CREATED:20260331T154327Z
LAST-MODIFIED:20260423T201856Z
UID:47665-1777064400-1777080600@www.emporiumarcadebar.com
SUMMARY:King Inesse presents: THAT'S SO Y2K w/ DJ Glo Boy
DESCRIPTION:King Inesse brings her popular That’s So Y2K party to the arcade\, giving you some of the greatest edits of popular 2000’s party hits.
URL:https://www.emporiumarcadebar.com/event/king-inesse-presents-thats-so-y2k-w-dj-glo-boy-042426/
LOCATION:Chicago Fulton Market\, 839 W Fulton Market\, Chicago\, IL\, 60607\, United States
CATEGORIES:Bar,Games,Music
ATTACH;FMTTYPE=image/jpeg:https://www.emporiumarcadebar.com/wp-content/uploads/2026/03/EFM-4.24-King-Inesse-copy.jpg
ORGANIZER;CN="Emporium Fulton Market":MAILTO:fultonmarket@emporiumarcadebar.com
END:VEVENT
END:VCALENDAR