BEGIN:VCALENDAR
VERSION:2.0
PRODID:-//Emporium Arcade Bar - ECPv6.15.18//NONSGML v1.0//EN
CALSCALE:GREGORIAN
METHOD:PUBLISH
X-WR-CALNAME:Emporium Arcade Bar
X-ORIGINAL-URL:https://www.emporiumarcadebar.com
X-WR-CALDESC:Events for Emporium Arcade Bar
REFRESH-INTERVAL;VALUE=DURATION:PT1H
X-Robots-Tag:noindex
X-PUBLISHED-TTL:PT1H
BEGIN:VTIMEZONE
TZID:America/Chicago
BEGIN:DAYLIGHT
TZOFFSETFROM:-0600
TZOFFSETTO:-0500
TZNAME:CDT
DTSTART:20230312T080000
END:DAYLIGHT
BEGIN:STANDARD
TZOFFSETFROM:-0500
TZOFFSETTO:-0600
TZNAME:CST
DTSTART:20231105T070000
END:STANDARD
BEGIN:DAYLIGHT
TZOFFSETFROM:-0600
TZOFFSETTO:-0500
TZNAME:CDT
DTSTART:20240310T080000
END:DAYLIGHT
BEGIN:STANDARD
TZOFFSETFROM:-0500
TZOFFSETTO:-0600
TZNAME:CST
DTSTART:20241103T070000
END:STANDARD
BEGIN:DAYLIGHT
TZOFFSETFROM:-0600
TZOFFSETTO:-0500
TZNAME:CDT
DTSTART:20250309T080000
END:DAYLIGHT
BEGIN:STANDARD
TZOFFSETFROM:-0500
TZOFFSETTO:-0600
TZNAME:CST
DTSTART:20251102T070000
END:STANDARD
END:VTIMEZONE
BEGIN:VEVENT
DTSTART;TZID=America/Chicago:20240810T140000
DTEND;TZID=America/Chicago:20240810T180000
DTSTAMP:20260424T044253
CREATED:20240807T154901Z
LAST-MODIFIED:20240809T220522Z
UID:28131-1723298400-1723312800@www.emporiumarcadebar.com
SUMMARY:Patio Jam Series w/ Evie The Cool & Fat Plate Fridays
DESCRIPTION:A true Chicago Summertime BBQ featuring the stylings of Evie The Cool\, Peter Cottontale\, and the award-winning Fat Plate Fridays BBQ.
URL:https://www.emporiumarcadebar.com/event/patio-jam-series-w-dj-police-state-x-fat-plate-fridays-bbq-081024/
LOCATION:Chicago Fulton Market\, 839 W Fulton Market\, Chicago\, IL\, 60607\, United States
CATEGORIES:Bar,Games,Music
ATTACH;FMTTYPE=image/jpeg:https://www.emporiumarcadebar.com/wp-content/uploads/2024/08/Joint-Venture-FI-1.jpg
ORGANIZER;CN="Emporium Fulton Market":MAILTO:fultonmarket@emporiumarcadebar.com
END:VEVENT
END:VCALENDAR