BEGIN:VCALENDAR
VERSION:2.0
PRODID:-//Emporium Arcade Bar - ECPv6.15.18//NONSGML v1.0//EN
CALSCALE:GREGORIAN
METHOD:PUBLISH
X-WR-CALNAME:Emporium Arcade Bar
X-ORIGINAL-URL:https://www.emporiumarcadebar.com
X-WR-CALDESC:Events for Emporium Arcade Bar
REFRESH-INTERVAL;VALUE=DURATION:PT1H
X-Robots-Tag:noindex
X-PUBLISHED-TTL:PT1H
BEGIN:VTIMEZONE
TZID:America/Chicago
BEGIN:DAYLIGHT
TZOFFSETFROM:-0600
TZOFFSETTO:-0500
TZNAME:CDT
DTSTART:20250309T080000
END:DAYLIGHT
BEGIN:STANDARD
TZOFFSETFROM:-0500
TZOFFSETTO:-0600
TZNAME:CST
DTSTART:20251102T070000
END:STANDARD
BEGIN:DAYLIGHT
TZOFFSETFROM:-0600
TZOFFSETTO:-0500
TZNAME:CDT
DTSTART:20260308T080000
END:DAYLIGHT
BEGIN:STANDARD
TZOFFSETFROM:-0500
TZOFFSETTO:-0600
TZNAME:CST
DTSTART:20261101T070000
END:STANDARD
BEGIN:DAYLIGHT
TZOFFSETFROM:-0600
TZOFFSETTO:-0500
TZNAME:CDT
DTSTART:20270314T080000
END:DAYLIGHT
BEGIN:STANDARD
TZOFFSETFROM:-0500
TZOFFSETTO:-0600
TZNAME:CST
DTSTART:20271107T070000
END:STANDARD
END:VTIMEZONE
BEGIN:VEVENT
DTSTART;TZID=America/Chicago:20260501T213000
DTEND;TZID=America/Chicago:20260502T013000
DTSTAMP:20260424T054246
CREATED:20260423T221050Z
LAST-MODIFIED:20260423T221050Z
UID:48493-1777671000-1777685400@www.emporiumarcadebar.com
SUMMARY:Ritmo & Soul Sessions w/ Escobae & Vince Lazarus
DESCRIPTION:Every first Friday of the month\, catch Escobae & Vince Lazaurus with Ritmo & Soul Sessions with blends of Latin\, Hip-Hop\, Afrobeats\, House\, Club Edits and much more!
URL:https://www.emporiumarcadebar.com/event/ritmo-soul-sessions-w-escobae-vince-lazarus-050126/
LOCATION:Chicago Logan Square\, 2363 N Milwaukee Ave\, Chicago\, IL\, 60647\, United States
CATEGORIES:Bar,Games,Music
ATTACH;FMTTYPE=image/jpeg:https://www.emporiumarcadebar.com/wp-content/uploads/2026/04/els-5.2-ritmo-copy.jpg
ORGANIZER;CN="Emporium Logan Square":MAILTO:logansquare@emporiumarcadebar.com
END:VEVENT
END:VCALENDAR