BEGIN:VCALENDAR
VERSION:2.0
PRODID:-//Emporium Arcade Bar - ECPv6.15.18//NONSGML v1.0//EN
CALSCALE:GREGORIAN
METHOD:PUBLISH
X-WR-CALNAME:Emporium Arcade Bar
X-ORIGINAL-URL:https://www.emporiumarcadebar.com
X-WR-CALDESC:Events for Emporium Arcade Bar
REFRESH-INTERVAL;VALUE=DURATION:PT1H
X-Robots-Tag:noindex
X-PUBLISHED-TTL:PT1H
BEGIN:VTIMEZONE
TZID:America/Chicago
BEGIN:DAYLIGHT
TZOFFSETFROM:-0600
TZOFFSETTO:-0500
TZNAME:CDT
DTSTART:20220313T080000
END:DAYLIGHT
BEGIN:STANDARD
TZOFFSETFROM:-0500
TZOFFSETTO:-0600
TZNAME:CST
DTSTART:20221106T070000
END:STANDARD
BEGIN:DAYLIGHT
TZOFFSETFROM:-0600
TZOFFSETTO:-0500
TZNAME:CDT
DTSTART:20230312T080000
END:DAYLIGHT
BEGIN:STANDARD
TZOFFSETFROM:-0500
TZOFFSETTO:-0600
TZNAME:CST
DTSTART:20231105T070000
END:STANDARD
BEGIN:DAYLIGHT
TZOFFSETFROM:-0600
TZOFFSETTO:-0500
TZNAME:CDT
DTSTART:20240310T080000
END:DAYLIGHT
BEGIN:STANDARD
TZOFFSETFROM:-0500
TZOFFSETTO:-0600
TZNAME:CST
DTSTART:20241103T070000
END:STANDARD
END:VTIMEZONE
BEGIN:VEVENT
DTSTART;TZID=America/Chicago:20230825T220000
DTEND;TZID=America/Chicago:20230826T010000
DTSTAMP:20260420T023650
CREATED:20230726T191455Z
LAST-MODIFIED:20240324T111547Z
UID:21016-1693000800-1693011600@www.emporiumarcadebar.com
SUMMARY:Run The World : A Night Celebrating Women w/ DJ Spin It Back Spinelli
DESCRIPTION:Run the World brings a strong\, independent feminine vibe focusing on women. Female DJs celebrating female artists
URL:https://www.emporiumarcadebar.com/event/run-the-world-a-night-celebrating-women-w-dj-spin-it-back-spinelli/
LOCATION:New Orleans\, 2231 St Claude Ave\, New Orleans\, LA\, 70117\, United States
CATEGORIES:Bar,Games,Music
ATTACH;FMTTYPE=image/jpeg:https://www.emporiumarcadebar.com/wp-content/uploads/2022/12/IG-Green.jpg
ORGANIZER;CN="Emporium New Orleans":MAILTO:nola@emporiumarcadebar.com
END:VEVENT
END:VCALENDAR