BEGIN:VCALENDAR
VERSION:2.0
PRODID:-//Emporium Arcade Bar - ECPv6.15.18//NONSGML v1.0//EN
CALSCALE:GREGORIAN
METHOD:PUBLISH
X-WR-CALNAME:Emporium Arcade Bar
X-ORIGINAL-URL:https://www.emporiumarcadebar.com
X-WR-CALDESC:Events for Emporium Arcade Bar
REFRESH-INTERVAL;VALUE=DURATION:PT1H
X-Robots-Tag:noindex
X-PUBLISHED-TTL:PT1H
BEGIN:VTIMEZONE
TZID:America/Chicago
BEGIN:DAYLIGHT
TZOFFSETFROM:-0600
TZOFFSETTO:-0500
TZNAME:CDT
DTSTART:20240310T080000
END:DAYLIGHT
BEGIN:STANDARD
TZOFFSETFROM:-0500
TZOFFSETTO:-0600
TZNAME:CST
DTSTART:20241103T070000
END:STANDARD
BEGIN:DAYLIGHT
TZOFFSETFROM:-0600
TZOFFSETTO:-0500
TZNAME:CDT
DTSTART:20250309T080000
END:DAYLIGHT
BEGIN:STANDARD
TZOFFSETFROM:-0500
TZOFFSETTO:-0600
TZNAME:CST
DTSTART:20251102T070000
END:STANDARD
BEGIN:DAYLIGHT
TZOFFSETFROM:-0600
TZOFFSETTO:-0500
TZNAME:CDT
DTSTART:20260308T080000
END:DAYLIGHT
BEGIN:STANDARD
TZOFFSETFROM:-0500
TZOFFSETTO:-0600
TZNAME:CST
DTSTART:20261101T070000
END:STANDARD
END:VTIMEZONE
BEGIN:VEVENT
DTSTART;TZID=America/Chicago:20250918T200000
DTEND;TZID=America/Chicago:20250918T220000
DTSTAMP:20260420T012506
CREATED:20250909T194933Z
LAST-MODIFIED:20250910T172317Z
UID:40940-1758225600-1758232800@www.emporiumarcadebar.com
SUMMARY:Trivia Host Kam & DJ Brutal Landscapes / Are you smarter than a BARFLY TRIVIA
DESCRIPTION:Everyone’s favorite door guy / personality hosts his monthly trivia with prizes including TOKENS \, DRINKS\, & SWAG ! We’ll have a food pop up too ! This month’s theme : WORLD OF WRESTLING
URL:https://www.emporiumarcadebar.com/event/trivia-host-kam-dj-brutal-landscapes-are-you-smarter-than-a-barfly-trivia/
LOCATION:New Orleans\, 2231 St Claude Ave\, New Orleans\, LA\, 70117\, United States
CATEGORIES:Bar,Games,Music
ATTACH;FMTTYPE=image/png:https://www.emporiumarcadebar.com/wp-content/uploads/2025/09/91825Trivia.png.png
ORGANIZER;CN="Emporium New Orleans":MAILTO:nola@emporiumarcadebar.com
END:VEVENT
END:VCALENDAR