BEGIN:VCALENDAR
VERSION:2.0
PRODID:-//Emporium Arcade Bar - ECPv6.15.18//NONSGML v1.0//EN
CALSCALE:GREGORIAN
METHOD:PUBLISH
X-WR-CALNAME:Emporium Arcade Bar
X-ORIGINAL-URL:https://www.emporiumarcadebar.com
X-WR-CALDESC:Events for Emporium Arcade Bar
REFRESH-INTERVAL;VALUE=DURATION:PT1H
X-Robots-Tag:noindex
X-PUBLISHED-TTL:PT1H
BEGIN:VTIMEZONE
TZID:America/Chicago
BEGIN:DAYLIGHT
TZOFFSETFROM:-0600
TZOFFSETTO:-0500
TZNAME:CDT
DTSTART:20250309T080000
END:DAYLIGHT
BEGIN:STANDARD
TZOFFSETFROM:-0500
TZOFFSETTO:-0600
TZNAME:CST
DTSTART:20251102T070000
END:STANDARD
BEGIN:DAYLIGHT
TZOFFSETFROM:-0600
TZOFFSETTO:-0500
TZNAME:CDT
DTSTART:20260308T080000
END:DAYLIGHT
BEGIN:STANDARD
TZOFFSETFROM:-0500
TZOFFSETTO:-0600
TZNAME:CST
DTSTART:20261101T070000
END:STANDARD
BEGIN:DAYLIGHT
TZOFFSETFROM:-0600
TZOFFSETTO:-0500
TZNAME:CDT
DTSTART:20270314T080000
END:DAYLIGHT
BEGIN:STANDARD
TZOFFSETFROM:-0500
TZOFFSETTO:-0600
TZNAME:CST
DTSTART:20271107T070000
END:STANDARD
END:VTIMEZONE
BEGIN:VEVENT
DTSTART;TZID=America/Chicago:20260103T213000
DTEND;TZID=America/Chicago:20260104T020000
DTSTAMP:20260424T082648
CREATED:20251231T164217Z
LAST-MODIFIED:20251231T164305Z
UID:10006441-1767475800-1767492000@www.emporiumarcadebar.com
SUMMARY:Level Up w/ DJ Esteban
DESCRIPTION:Come to the Emporium for a night of music and fun at the club. Get ready for a night of games and awesome sounds.
URL:https://www.emporiumarcadebar.com/event/level-up-w-dj-esteban-010326/
LOCATION:Chicago Wicker Park\, 1366 N milwaukee ave\, Chicago\, IL\, 60622\, United States
CATEGORIES:Bar,DJ,Games,Music
ATTACH;FMTTYPE=image/jpeg:https://www.emporiumarcadebar.com/wp-content/uploads/2022/12/IG-Blue.jpg
ORGANIZER;CN="Emporium Wicker Park":MAILTO:wickerpark@emporiumarcadebar.com
END:VEVENT
BEGIN:VEVENT
DTSTART;TZID=America/Chicago:20260107T200000
DTEND;TZID=America/Chicago:20260108T010000
DTSTAMP:20260424T082648
CREATED:20260105T213532Z
LAST-MODIFIED:20260105T213654Z
UID:10006513-1767816000-1767834000@www.emporiumarcadebar.com
SUMMARY:PRESS START w/ Chicago Fashion Coalition & Vic Lloyd
DESCRIPTION:Join the Chicago Fashion Coalition & Vic Lloyd for a Homecoming\, the PRESS START edition. Wear some of the best gear inspired by your favorite Tekken or Street Fighter player. Tickets required for entry.
URL:https://www.emporiumarcadebar.com/event/press-start-w-chicago-fashion-coalition-vic-lloyd-010726/
LOCATION:Chicago Wicker Park\, 1366 N milwaukee ave\, Chicago\, IL\, 60622\, United States
CATEGORIES:Bar,DJ,Games,Music,Other
ATTACH;FMTTYPE=image/jpeg:https://www.emporiumarcadebar.com/wp-content/uploads/2026/01/press-start.jpg
ORGANIZER;CN="Emporium Wicker Park":MAILTO:wickerpark@emporiumarcadebar.com
END:VEVENT
BEGIN:VEVENT
DTSTART;TZID=America/Chicago:20260117T213000
DTEND;TZID=America/Chicago:20260118T020000
DTSTAMP:20260424T082648
CREATED:20251231T162231Z
LAST-MODIFIED:20260105T170548Z
UID:10006438-1768685400-1768701600@www.emporiumarcadebar.com
SUMMARY:Boomshakalaka w/ Maddjazz
DESCRIPTION:MaddJazz has been honing his innovative style Since 1996 at the age of 14. Within a few years he was already DJing at raves\, loft parties and clubs. Influenced by these early raves as well as his start in the turntablism scene where he won or placed in numerous DJ Battles including the Chicago DMC Heats\, MaddJazz blends his favorite House\, Techno\, Rave\, Hip Hop\, Bmore\, Jersey Club\, Ghetto\, Juke\, and Latin elements in the attempt to find inventive ways to showcase the emergent Chicago sound.
URL:https://www.emporiumarcadebar.com/event/boomshakalaka-w-maddjazz-011726/
LOCATION:Chicago Wicker Park\, 1366 N milwaukee ave\, Chicago\, IL\, 60622\, United States
CATEGORIES:Bar,DJ,Music
ATTACH;FMTTYPE=image/jpeg:https://www.emporiumarcadebar.com/wp-content/uploads/2025/12/Boom-1.jpg
ORGANIZER;CN="Emporium Wicker Park":MAILTO:wickerpark@emporiumarcadebar.com
END:VEVENT
BEGIN:VEVENT
DTSTART;TZID=America/Chicago:20260124T220000
DTEND;TZID=America/Chicago:20260125T010000
DTSTAMP:20260424T082648
CREATED:20260109T224457Z
LAST-MODIFIED:20260109T224839Z
UID:10006622-1769292000-1769302800@www.emporiumarcadebar.com
SUMMARY:PADWRK KEV
DESCRIPTION:Come with an open ear. Expect the unexpected. You’ll hear music you love… and music you didn’t know you needed.
URL:https://www.emporiumarcadebar.com/event/padwrk-kev/
LOCATION:New Orleans\, 2231 St Claude Ave\, New Orleans\, LA\, 70117\, United States
CATEGORIES:Bar,DJ,Games,Music
ATTACH;FMTTYPE=image/png:https://www.emporiumarcadebar.com/wp-content/uploads/2026/01/12426PadwrkKev.png
ORGANIZER;CN="Emporium New Orleans":MAILTO:nola@emporiumarcadebar.com
END:VEVENT
BEGIN:VEVENT
DTSTART;TZID=America/Chicago:20260131T210000
DTEND;TZID=America/Chicago:20260201T010000
DTSTAMP:20260424T082648
CREATED:20260109T223126Z
LAST-MODIFIED:20260112T175539Z
UID:10006621-1769893200-1769907600@www.emporiumarcadebar.com
SUMMARY:Branson Congnac Presents : The Beatdown VII All Styles Dance Battle
DESCRIPTION:Ready to witness the city’s top dancers battle it out? Save the date and get ready for a high-energy dance competition that you do not wanna miss!
URL:https://www.emporiumarcadebar.com/event/branson-congnac-presents-the-beatdown-vii-all-styles-dance-battle/
LOCATION:New Orleans\, 2231 St Claude Ave\, New Orleans\, LA\, 70117\, United States
CATEGORIES:Bar,DJ,Games,Music
ATTACH;FMTTYPE=image/png:https://www.emporiumarcadebar.com/wp-content/uploads/2026/01/13126BeatdownVII-1.png
ORGANIZER;CN="Emporium New Orleans":MAILTO:nola@emporiumarcadebar.com
END:VEVENT
BEGIN:VEVENT
DTSTART;TZID=America/Chicago:20260131T213000
DTEND;TZID=America/Chicago:20260201T020000
DTSTAMP:20260424T082648
CREATED:20251231T162702Z
LAST-MODIFIED:20260130T155102Z
UID:10006439-1769895000-1769911200@www.emporiumarcadebar.com
SUMMARY:White Owl
DESCRIPTION:Come to the Emporium for a night of music and fun at the club. Get ready for a night of games and awesome sounds.
URL:https://www.emporiumarcadebar.com/event/white-owl-013126/
LOCATION:Chicago Wicker Park\, 1366 N milwaukee ave\, Chicago\, IL\, 60622\, United States
CATEGORIES:Bar,DJ,Games,Music
ATTACH;FMTTYPE=image/jpeg:https://www.emporiumarcadebar.com/wp-content/uploads/2025/12/whiteowl-1.jpg
ORGANIZER;CN="Emporium Wicker Park":MAILTO:wickerpark@emporiumarcadebar.com
END:VEVENT
END:VCALENDAR