BEGIN:VCALENDAR
VERSION:2.0
PRODID:-//Emporium Arcade Bar - ECPv6.15.18//NONSGML v1.0//EN
CALSCALE:GREGORIAN
METHOD:PUBLISH
X-ORIGINAL-URL:https://www.emporiumarcadebar.com
X-WR-CALDESC:Events for Emporium Arcade Bar
REFRESH-INTERVAL;VALUE=DURATION:PT1H
X-Robots-Tag:noindex
X-PUBLISHED-TTL:PT1H
BEGIN:VTIMEZONE
TZID:America/Chicago
BEGIN:DAYLIGHT
TZOFFSETFROM:-0600
TZOFFSETTO:-0500
TZNAME:CDT
DTSTART:20250309T080000
END:DAYLIGHT
BEGIN:STANDARD
TZOFFSETFROM:-0500
TZOFFSETTO:-0600
TZNAME:CST
DTSTART:20251102T070000
END:STANDARD
BEGIN:DAYLIGHT
TZOFFSETFROM:-0600
TZOFFSETTO:-0500
TZNAME:CDT
DTSTART:20260308T080000
END:DAYLIGHT
BEGIN:STANDARD
TZOFFSETFROM:-0500
TZOFFSETTO:-0600
TZNAME:CST
DTSTART:20261101T070000
END:STANDARD
BEGIN:DAYLIGHT
TZOFFSETFROM:-0600
TZOFFSETTO:-0500
TZNAME:CDT
DTSTART:20270314T080000
END:DAYLIGHT
BEGIN:STANDARD
TZOFFSETFROM:-0500
TZOFFSETTO:-0600
TZNAME:CST
DTSTART:20271107T070000
END:STANDARD
END:VTIMEZONE
BEGIN:VTIMEZONE
TZID:America/Los_Angeles
BEGIN:DAYLIGHT
TZOFFSETFROM:-0800
TZOFFSETTO:-0700
TZNAME:PDT
DTSTART:20250309T100000
END:DAYLIGHT
BEGIN:STANDARD
TZOFFSETFROM:-0700
TZOFFSETTO:-0800
TZNAME:PST
DTSTART:20251102T090000
END:STANDARD
BEGIN:DAYLIGHT
TZOFFSETFROM:-0800
TZOFFSETTO:-0700
TZNAME:PDT
DTSTART:20260308T100000
END:DAYLIGHT
BEGIN:STANDARD
TZOFFSETFROM:-0700
TZOFFSETTO:-0800
TZNAME:PST
DTSTART:20261101T090000
END:STANDARD
BEGIN:DAYLIGHT
TZOFFSETFROM:-0800
TZOFFSETTO:-0700
TZNAME:PDT
DTSTART:20270314T100000
END:DAYLIGHT
BEGIN:STANDARD
TZOFFSETFROM:-0700
TZOFFSETTO:-0800
TZNAME:PST
DTSTART:20271107T090000
END:STANDARD
END:VTIMEZONE
BEGIN:VEVENT
DTSTART;TZID=America/Chicago:20260131T210000
DTEND;TZID=America/Chicago:20260201T010000
DTSTAMP:20260424T070603
CREATED:20260109T223126Z
LAST-MODIFIED:20260112T175539Z
UID:10006621-1769893200-1769907600@www.emporiumarcadebar.com
SUMMARY:Branson Congnac Presents : The Beatdown VII All Styles Dance Battle
DESCRIPTION:Ready to witness the city’s top dancers battle it out? Save the date and get ready for a high-energy dance competition that you do not wanna miss!
URL:https://www.emporiumarcadebar.com/event/branson-congnac-presents-the-beatdown-vii-all-styles-dance-battle/
LOCATION:New Orleans\, 2231 St Claude Ave\, New Orleans\, LA\, 70117\, United States
CATEGORIES:Bar,DJ,Games,Music
ATTACH;FMTTYPE=image/png:https://www.emporiumarcadebar.com/wp-content/uploads/2026/01/13126BeatdownVII-1.png
ORGANIZER;CN="Emporium New Orleans":MAILTO:nola@emporiumarcadebar.com
END:VEVENT
BEGIN:VEVENT
DTSTART;TZID=America/Chicago:20260131T213000
DTEND;TZID=America/Chicago:20260201T020000
DTSTAMP:20260424T070603
CREATED:20251231T162702Z
LAST-MODIFIED:20260130T155102Z
UID:10006439-1769895000-1769911200@www.emporiumarcadebar.com
SUMMARY:White Owl
DESCRIPTION:Come to the Emporium for a night of music and fun at the club. Get ready for a night of games and awesome sounds.
URL:https://www.emporiumarcadebar.com/event/white-owl-013126/
LOCATION:Chicago Wicker Park\, 1366 N milwaukee ave\, Chicago\, IL\, 60622\, United States
CATEGORIES:Bar,DJ,Games,Music
ATTACH;FMTTYPE=image/jpeg:https://www.emporiumarcadebar.com/wp-content/uploads/2025/12/whiteowl-1.jpg
ORGANIZER;CN="Emporium Wicker Park":MAILTO:wickerpark@emporiumarcadebar.com
END:VEVENT
BEGIN:VEVENT
DTSTART;TZID=America/Chicago:20260206T213000
DTEND;TZID=America/Chicago:20260207T013000
DTSTAMP:20260424T070603
CREATED:20260130T224423Z
LAST-MODIFIED:20260202T223041Z
UID:10006706-1770413400-1770427800@www.emporiumarcadebar.com
SUMMARY:Rhthm Collage w/ RTST & Chederac
DESCRIPTION:It’s the RTST and friends w/ the coldest cuts all night.
URL:https://www.emporiumarcadebar.com/event/rhthm-collage-w-rtst-chederac-020626/
LOCATION:Chicago Logan Square\, 2363 N Milwaukee Ave\, Chicago\, IL\, 60647\, United States
CATEGORIES:Bar,Dance Party,DJ,Games,Music
ATTACH;FMTTYPE=image/jpeg:https://www.emporiumarcadebar.com/wp-content/uploads/2026/01/Rhthmn-1.jpg
ORGANIZER;CN="Emporium Logan Square":MAILTO:logansquare@emporiumarcadebar.com
END:VEVENT
BEGIN:VEVENT
DTSTART;TZID=America/Chicago:20260206T213000
DTEND;TZID=America/Chicago:20260207T013000
DTSTAMP:20260424T070603
CREATED:20260202T231847Z
LAST-MODIFIED:20260204T222538Z
UID:10006723-1770413400-1770427800@www.emporiumarcadebar.com
SUMMARY:SOH JU
DESCRIPTION:Experience an electrifying night at Emporium Arcade Bar – Fulton Market\, where live DJs set the vibe in one of Chicago’s most iconic arcade bar venues.
URL:https://www.emporiumarcadebar.com/event/soh-ju-020626/
LOCATION:Chicago Fulton Market\, 839 W Fulton Market\, Chicago\, IL\, 60607\, United States
CATEGORIES:Bar,DJ,Music
ATTACH;FMTTYPE=image/jpeg:https://www.emporiumarcadebar.com/wp-content/uploads/2026/02/sohju-1.jpg
ORGANIZER;CN="Emporium Fulton Market":MAILTO:fultonmarket@emporiumarcadebar.com
END:VEVENT
BEGIN:VEVENT
DTSTART;TZID=America/Chicago:20260207T213000
DTEND;TZID=America/Chicago:20260208T020000
DTSTAMP:20260424T070603
CREATED:20260130T165105Z
LAST-MODIFIED:20260130T165328Z
UID:10006635-1770499800-1770516000@www.emporiumarcadebar.com
SUMMARY:Level Up w/ DJ Esteban
DESCRIPTION:Come to the Emporium for a night of music and fun at the club. Get ready for a night of games and awesome sounds.
URL:https://www.emporiumarcadebar.com/event/level-up-w-dj-esteban-020726/
LOCATION:Chicago Wicker Park\, 1366 N milwaukee ave\, Chicago\, IL\, 60622\, United States
CATEGORIES:Bar,DJ,Games,Music
ATTACH;FMTTYPE=image/jpeg:https://www.emporiumarcadebar.com/wp-content/uploads/2022/12/IG-Blue.jpg
ORGANIZER;CN="Emporium Wicker Park":MAILTO:wickerpark@emporiumarcadebar.com
END:VEVENT
BEGIN:VEVENT
DTSTART;TZID=America/Los_Angeles:20260213T210000
DTEND;TZID=America/Los_Angeles:20260214T020000
DTSTAMP:20260424T070603
CREATED:20260121T204513Z
LAST-MODIFIED:20260128T195926Z
UID:10006627-1771016400-1771034400@www.emporiumarcadebar.com
SUMMARY:maDRE
DESCRIPTION:Embrace the vibes at Emporium. Catch maDRE dropping beats all night alongside some of the best arcade games and drinks around! No cover charge\, 21+
URL:https://www.emporiumarcadebar.com/event/madre-021326/
LOCATION:San Francisco\, 616 Divisadero St\, San Francisco\, CA\, 94117\, United States
CATEGORIES:Bar,DJ,Games,Music
ATTACH;FMTTYPE=image/jpeg:https://www.emporiumarcadebar.com/wp-content/uploads/2026/01/Madre.jpg
ORGANIZER;CN="Emporium San Francisco":MAILTO:sf@emporiumarcadebar.com
END:VEVENT
BEGIN:VEVENT
DTSTART;TZID=America/Chicago:20260214T220000
DTEND;TZID=America/Chicago:20260215T023000
DTSTAMP:20260424T070603
CREATED:20260202T163100Z
LAST-MODIFIED:20260202T163428Z
UID:10006711-1771106400-1771122600@www.emporiumarcadebar.com
SUMMARY:White Owl
DESCRIPTION:Come to the Emporium for a night of music and fun at the club. Get ready for a night of games and awesome sounds.
URL:https://www.emporiumarcadebar.com/event/white-owl-021426/
LOCATION:Chicago Logan Square\, 2363 N Milwaukee Ave\, Chicago\, IL\, 60647\, United States
CATEGORIES:Bar,DJ,Games,Music
ATTACH;FMTTYPE=image/jpeg:https://www.emporiumarcadebar.com/wp-content/uploads/2022/12/IG-Blue.jpg
ORGANIZER;CN="Emporium Logan Square":MAILTO:logansquare@emporiumarcadebar.com
END:VEVENT
BEGIN:VEVENT
DTSTART;TZID=America/Chicago:20260220T213000
DTEND;TZID=America/Chicago:20260221T013000
DTSTAMP:20260424T070603
CREATED:20260202T232127Z
LAST-MODIFIED:20260205T235504Z
UID:10006724-1771623000-1771637400@www.emporiumarcadebar.com
SUMMARY:BABES WORLD w/ EVIETHECOOL
DESCRIPTION:Experience an electrifying night at Emporium Arcade Bar – Fulton Market\, where live DJs set the vibe in one of Chicago’s most iconic arcade bar venues.
URL:https://www.emporiumarcadebar.com/event/babes-world-022026/
LOCATION:Chicago Fulton Market\, 839 W Fulton Market\, Chicago\, IL\, 60607\, United States
CATEGORIES:Bar,DJ,Music
ATTACH;FMTTYPE=image/jpeg:https://www.emporiumarcadebar.com/wp-content/uploads/2022/12/IG-Pink.jpg
ORGANIZER;CN="Emporium Fulton Market":MAILTO:fultonmarket@emporiumarcadebar.com
END:VEVENT
BEGIN:VEVENT
DTSTART;TZID=America/Chicago:20260221T214500
DTEND;TZID=America/Chicago:20260222T020000
DTSTAMP:20260424T070603
CREATED:20260130T170104Z
LAST-MODIFIED:20260211T213333Z
UID:10006637-1771710300-1771725600@www.emporiumarcadebar.com
SUMMARY:Boomshakalaka w/ Maddjazz
DESCRIPTION:MaddJazz has been honing his innovative style Since 1996 at the age of 14. Within a few years he was already DJing at raves\, loft parties and clubs. Influenced by these early raves as well as his start in the turntablism scene where he won or placed in numerous DJ Battles including the Chicago DMC Heats\, MaddJazz blends his favorite House\, Techno\, Rave\, Hip Hop\, Bmore\, Jersey Club\, Ghetto\, Juke\, and Latin elements in the attempt to find inventive ways to showcase the emergent Chicago sound.
URL:https://www.emporiumarcadebar.com/event/boomshakalaka-w-maddjazz-022126/
LOCATION:Chicago Wicker Park\, 1366 N milwaukee ave\, Chicago\, IL\, 60622\, United States
CATEGORIES:Bar,DJ,Music
ATTACH;FMTTYPE=image/jpeg:https://www.emporiumarcadebar.com/wp-content/uploads/2026/01/square-image-1.jpg
ORGANIZER;CN="Emporium Wicker Park":MAILTO:wickerpark@emporiumarcadebar.com
END:VEVENT
BEGIN:VEVENT
DTSTART;TZID=America/Chicago:20260221T214500
DTEND;TZID=America/Chicago:20260222T021500
DTSTAMP:20260424T070603
CREATED:20260202T232620Z
LAST-MODIFIED:20260206T000029Z
UID:10006726-1771710300-1771726500@www.emporiumarcadebar.com
SUMMARY:Soundscapes w/ ACED SPADE
DESCRIPTION:Experience an electrifying night at Emporium Arcade Bar – Fulton Market\, where live DJs set the vibe in one of Chicago’s most iconic arcade bar venues.
URL:https://www.emporiumarcadebar.com/event/soundscapes-w-acedspace-022126/
LOCATION:Chicago Fulton Market\, 839 W Fulton Market\, Chicago\, IL\, 60607\, United States
CATEGORIES:Bar,DJ,Music
ATTACH;FMTTYPE=image/jpeg:https://www.emporiumarcadebar.com/wp-content/uploads/2022/12/IG-Pink.jpg
ORGANIZER;CN="Emporium Fulton Market":MAILTO:fultonmarket@emporiumarcadebar.com
END:VEVENT
BEGIN:VEVENT
DTSTART;TZID=America/Chicago:20260227T213000
DTEND;TZID=America/Chicago:20260228T013000
DTSTAMP:20260424T070603
CREATED:20260202T232800Z
LAST-MODIFIED:20260206T001013Z
UID:10006725-1772227800-1772242200@www.emporiumarcadebar.com
SUMMARY:93 GAS w/ Slot-A
DESCRIPTION:Experience an electrifying night at Emporium Arcade Bar – Fulton Market\, where live DJs set the vibe in one of Chicago’s most iconic arcade bar venues.
URL:https://www.emporiumarcadebar.com/event/93-gas-slot-a-022726/
LOCATION:Chicago Fulton Market\, 839 W Fulton Market\, Chicago\, IL\, 60607\, United States
CATEGORIES:Bar,DJ,Music
ATTACH;FMTTYPE=image/jpeg:https://www.emporiumarcadebar.com/wp-content/uploads/2022/12/IG-Pink.jpg
ORGANIZER;CN="Emporium Fulton Market":MAILTO:fultonmarket@emporiumarcadebar.com
END:VEVENT
BEGIN:VEVENT
DTSTART;TZID=America/Chicago:20260228T210000
DTEND;TZID=America/Chicago:20260301T023000
DTSTAMP:20260424T070603
CREATED:20260219T222252Z
LAST-MODIFIED:20260219T222743Z
UID:10006740-1772312400-1772332200@www.emporiumarcadebar.com
SUMMARY:Ruidoteca! w/ KARENOID\, MALA VIDA\, PATRIXIA\, DUVALYN Y MARI MARI
DESCRIPTION:Ruidosa Art Collective presents: Ruidoteca! An all femme DJ lineup bringing you a night full of Reggaeton\, Cumbia\, Post-Industrial Techno and more! $10 cover required for entry starting after 9PM.
URL:https://www.emporiumarcadebar.com/event/rudioteca-022826/
LOCATION:Chicago Wicker Park\, 1366 N milwaukee ave\, Chicago\, IL\, 60622\, United States
CATEGORIES:Bar,DJ,Music
ATTACH;FMTTYPE=image/png:https://www.emporiumarcadebar.com/wp-content/uploads/2026/02/RUIDOTECA-2_28.png
ORGANIZER;CN="Emporium Wicker Park":MAILTO:wickerpark@emporiumarcadebar.com
END:VEVENT
END:VCALENDAR