BEGIN:VCALENDAR
VERSION:2.0
PRODID:-//Emporium Arcade Bar - ECPv6.15.18//NONSGML v1.0//EN
CALSCALE:GREGORIAN
METHOD:PUBLISH
X-ORIGINAL-URL:https://www.emporiumarcadebar.com
X-WR-CALDESC:Events for Emporium Arcade Bar
REFRESH-INTERVAL;VALUE=DURATION:PT1H
X-Robots-Tag:noindex
X-PUBLISHED-TTL:PT1H
BEGIN:VTIMEZONE
TZID:America/Chicago
BEGIN:DAYLIGHT
TZOFFSETFROM:-0600
TZOFFSETTO:-0500
TZNAME:CDT
DTSTART:20250309T080000
END:DAYLIGHT
BEGIN:STANDARD
TZOFFSETFROM:-0500
TZOFFSETTO:-0600
TZNAME:CST
DTSTART:20251102T070000
END:STANDARD
BEGIN:DAYLIGHT
TZOFFSETFROM:-0600
TZOFFSETTO:-0500
TZNAME:CDT
DTSTART:20260308T080000
END:DAYLIGHT
BEGIN:STANDARD
TZOFFSETFROM:-0500
TZOFFSETTO:-0600
TZNAME:CST
DTSTART:20261101T070000
END:STANDARD
BEGIN:DAYLIGHT
TZOFFSETFROM:-0600
TZOFFSETTO:-0500
TZNAME:CDT
DTSTART:20270314T080000
END:DAYLIGHT
BEGIN:STANDARD
TZOFFSETFROM:-0500
TZOFFSETTO:-0600
TZNAME:CST
DTSTART:20271107T070000
END:STANDARD
END:VTIMEZONE
BEGIN:VEVENT
DTSTART;TZID=America/Chicago:20260214T220000
DTEND;TZID=America/Chicago:20260215T023000
DTSTAMP:20260424T082946
CREATED:20260202T163100Z
LAST-MODIFIED:20260202T163428Z
UID:10006711-1771106400-1771122600@www.emporiumarcadebar.com
SUMMARY:White Owl
DESCRIPTION:Come to the Emporium for a night of music and fun at the club. Get ready for a night of games and awesome sounds.
URL:https://www.emporiumarcadebar.com/event/white-owl-021426/
LOCATION:Chicago Logan Square\, 2363 N Milwaukee Ave\, Chicago\, IL\, 60647\, United States
CATEGORIES:Bar,DJ,Games,Music
ATTACH;FMTTYPE=image/jpeg:https://www.emporiumarcadebar.com/wp-content/uploads/2022/12/IG-Blue.jpg
ORGANIZER;CN="Emporium Logan Square":MAILTO:logansquare@emporiumarcadebar.com
END:VEVENT
END:VCALENDAR