BEGIN:VCALENDAR
VERSION:2.0
PRODID:-//Emporium Arcade Bar - ECPv6.15.18//NONSGML v1.0//EN
CALSCALE:GREGORIAN
METHOD:PUBLISH
X-ORIGINAL-URL:https://www.emporiumarcadebar.com
X-WR-CALDESC:Events for Emporium Arcade Bar
REFRESH-INTERVAL;VALUE=DURATION:PT1H
X-Robots-Tag:noindex
X-PUBLISHED-TTL:PT1H
BEGIN:VTIMEZONE
TZID:America/Chicago
BEGIN:DAYLIGHT
TZOFFSETFROM:-0600
TZOFFSETTO:-0500
TZNAME:CDT
DTSTART:20250309T080000
END:DAYLIGHT
BEGIN:STANDARD
TZOFFSETFROM:-0500
TZOFFSETTO:-0600
TZNAME:CST
DTSTART:20251102T070000
END:STANDARD
BEGIN:DAYLIGHT
TZOFFSETFROM:-0600
TZOFFSETTO:-0500
TZNAME:CDT
DTSTART:20260308T080000
END:DAYLIGHT
BEGIN:STANDARD
TZOFFSETFROM:-0500
TZOFFSETTO:-0600
TZNAME:CST
DTSTART:20261101T070000
END:STANDARD
BEGIN:DAYLIGHT
TZOFFSETFROM:-0600
TZOFFSETTO:-0500
TZNAME:CDT
DTSTART:20270314T080000
END:DAYLIGHT
BEGIN:STANDARD
TZOFFSETFROM:-0500
TZOFFSETTO:-0600
TZNAME:CST
DTSTART:20271107T070000
END:STANDARD
END:VTIMEZONE
BEGIN:VEVENT
DTSTART;TZID=America/Chicago:20260411T213000
DTEND;TZID=America/Chicago:20260412T020000
DTSTAMP:20260424T055620
CREATED:20260330T162412Z
LAST-MODIFIED:20260407T212128Z
UID:10006806-1775943000-1775959200@www.emporiumarcadebar.com
SUMMARY:Side Quest w/ DJ White Owl
DESCRIPTION:Come to the Emporium for a night of music and fun at the club. Get ready for a night of games and awesome sounds.
URL:https://www.emporiumarcadebar.com/event/side-quest-with-dj-white-owl-041126/
LOCATION:Chicago Logan Square\, 2363 N Milwaukee Ave\, Chicago\, IL\, 60647\, United States
CATEGORIES:Bar,DJ,Games,Music
ATTACH;FMTTYPE=image/jpeg:https://www.emporiumarcadebar.com/wp-content/uploads/2026/04/ELS-4.11-White-Owl-copy.jpg
ORGANIZER;CN="Emporium Logan Square":MAILTO:logansquare@emporiumarcadebar.com
END:VEVENT
BEGIN:VEVENT
DTSTART;TZID=America/Chicago:20260411T213000
DTEND;TZID=America/Chicago:20260412T023000
DTSTAMP:20260424T055620
CREATED:20260331T170929Z
LAST-MODIFIED:20260407T211147Z
UID:10006826-1775943000-1775961000@www.emporiumarcadebar.com
SUMMARY:Soundscapes w/ Aced Spade
DESCRIPTION:Experience an electrifying night at Emporium Arcade Bar – Fulton Market\, where live DJs set the vibe in one of Chicago’s most iconic arcade bar venues.
URL:https://www.emporiumarcadebar.com/event/soundscapes-w-aced-spade-041126/
LOCATION:Chicago Fulton Market\, 839 W Fulton Market\, Chicago\, IL\, 60607\, United States
CATEGORIES:Bar,DJ,Music
ATTACH;FMTTYPE=image/jpeg:https://www.emporiumarcadebar.com/wp-content/uploads/2026/04/EFM-4.11-Soundscapes-copy.jpg
ORGANIZER;CN="Emporium Fulton Market":MAILTO:fultonmarket@emporiumarcadebar.com
END:VEVENT
END:VCALENDAR