BEGIN:VCALENDAR
VERSION:2.0
PRODID:-//Emporium Arcade Bar - ECPv6.15.18//NONSGML v1.0//EN
CALSCALE:GREGORIAN
METHOD:PUBLISH
X-WR-CALNAME:Emporium Arcade Bar
X-ORIGINAL-URL:https://www.emporiumarcadebar.com
X-WR-CALDESC:Events for Emporium Arcade Bar
REFRESH-INTERVAL;VALUE=DURATION:PT1H
X-Robots-Tag:noindex
X-PUBLISHED-TTL:PT1H
BEGIN:VTIMEZONE
TZID:America/Chicago
BEGIN:DAYLIGHT
TZOFFSETFROM:-0600
TZOFFSETTO:-0500
TZNAME:CDT
DTSTART:20250309T080000
END:DAYLIGHT
BEGIN:STANDARD
TZOFFSETFROM:-0500
TZOFFSETTO:-0600
TZNAME:CST
DTSTART:20251102T070000
END:STANDARD
BEGIN:DAYLIGHT
TZOFFSETFROM:-0600
TZOFFSETTO:-0500
TZNAME:CDT
DTSTART:20260308T080000
END:DAYLIGHT
BEGIN:STANDARD
TZOFFSETFROM:-0500
TZOFFSETTO:-0600
TZNAME:CST
DTSTART:20261101T070000
END:STANDARD
BEGIN:DAYLIGHT
TZOFFSETFROM:-0600
TZOFFSETTO:-0500
TZNAME:CDT
DTSTART:20270314T080000
END:DAYLIGHT
BEGIN:STANDARD
TZOFFSETFROM:-0500
TZOFFSETTO:-0600
TZNAME:CST
DTSTART:20271107T070000
END:STANDARD
END:VTIMEZONE
BEGIN:VEVENT
DTSTART;TZID=America/Chicago:20260417T213000
DTEND;TZID=America/Chicago:20260418T013000
DTSTAMP:20260424T054929
CREATED:20260331T162529Z
LAST-MODIFIED:20260407T211634Z
UID:10006825-1776461400-1776475800@www.emporiumarcadebar.com
SUMMARY:Babe's World w/ EvieTheCool & DJ BG
DESCRIPTION:Babe’s Only Presents Babe’s World ran by resident DJ EvieTheCool and friends! A party with an all woman DJ lineup\, centered around club edits\, funk\, pop & R&B
URL:https://www.emporiumarcadebar.com/event/babes-world-w-eviethecool-dj-ace-041726/
LOCATION:Chicago Fulton Market\, 839 W Fulton Market\, Chicago\, IL\, 60607\, United States
CATEGORIES:Bar,DJ,Music
ATTACH;FMTTYPE=image/jpeg:https://www.emporiumarcadebar.com/wp-content/uploads/2026/04/EFM-4.17-Babes-World-copy.jpg
ORGANIZER;CN="Emporium Fulton Market":MAILTO:fultonmarket@emporiumarcadebar.com
END:VEVENT
END:VCALENDAR